BEGIN:VCALENDAR
VERSION:2.0
PRODID:-//Squarespace Inc/Squarespace 6//v6//EN
BEGIN:VEVENT
UID:5401cb3fe4b0e9cf18a222a3@squarespace.com
DTSTAMP:20140830T130225Z
DTSTART:20140901T093000Z
DTEND:20140901T113000Z
SUMMARY:Sunday Team Meeting
GEO:-37.805288;144.963233
LOCATION:Expedition Labs\, 488 Swanston Street\, Carlton\, VIC\, 3053\, Aus
 tralia
END:VEVENT
END:VCALENDAR
